Workbook

Sheet Instructions
B2: The Nine-Box Grid Template
B5: About this resource | C5: This resource will help you to categorize individuals at your organization based on their performance and potential. The Nine-Box Grid can be used in performance management and talent development strategies to identify and prioritize the development needs of employees. By placing individuals in one of the nine boxes, you can determine what actions to take next based on the group in which the individual falls and then adjust your talent management strategies accordingly.
B7: Included in this resource | C7: 1. Guiding questions: This tab contains 6 questions that will guide your use of this resource.
C8: 2. Nine-Box Grid: This grid is for evaluating employee performance and growth. The Nine-Box Grid will automatically populate when you use the drop-down menus, so you can visualize each employee's position within the grid and make well-informed decisions.
C9: 3. Term sheet: It contains labels for categories of performance and potential. We've provided suggested options for you to choose from, but you can alter them if these options don't meet the specific needs of your organization's talent management strategy.
B11: Instructions
B12: STEP 1 | C12: Revise the guiding questions to help you contextualize and define the scope of this evaluation.
B13: STEP 2 | C13: Check the Term sheet and modify them if desired. Any changes you make to the terms in the sheet will automatically update throughout the document for consistency.
B14: STEP 3 | C14: In the Nine-Box Grid sheet, fill Column B with the names of the employees you wish to evaluate.
B15: STEP 4 | C15: Evaluate each employee's performance by selecting an option from the drop-down list in Column D (Nine-Box Grid sheet).
B16: STEP 5 | C16: Evaluate each employee's potential for growth by selecting an option from the drop-down list in Column F (Nine-Box Grid sheet).
B17: STEP 6 | C17: Use the information that appears in the grid to identify areas for improvement and potential career paths for each employee. This will help you make informed decisions about talent management strategies for each employee
B20: BEFORE YOU BEGIN Note that yellow-shaded cells throughout this template require your input. You will have to either type in the information or select an option from a drop-down menu.
B26: ATTENTION Using this template means filling it with the sensitive information about the employees at your organization. It's important to ensure that this information is kept confidential and protected. Don't share this information beyond the relevant and accredited stakeholders.

Sheet 1. Guiding questions
B2: Guiding Questions
B3: Use these questions to guide your thinking when using the Nine-Box Grid. | E3: Write down your notes in this column.
B6: Defining the scope | C6: Which team or department are you using this grid for? Are there specific talent segments that have to be prioritized based on criticality and/or scarcity? (We recommend using it for a small group to avoid overcrowding the grid and enable prioritization.)
B12: Assessing performance | C12: How are you going to rate an employee's overall performance in terms of meeting or exceeding performance expectations?
B16: Assessing potential | C16: How are you going to rate an employee's potential for growth and advancement within the organization?
B19: Differentiating between high performers | C19: How will you judge to what extent does the employee consistently demonstrate exceptional skills, competencies, and results that go beyond expectations?
B24: Differentiating between high potentials | C24: How likely is it that the employee possesses the ability, ambition, and willingness to take on higher-level roles and responsibilities in the future?
B29: Considering risk factors | C29: How will you consider if there any factors that could pose risks or obstacles to the employee's performance or potential growth?

Sheet 2. Nine-Box Grid
B5: The Nine-Box Grid Template
K6: IMPORTANT
K8: Don't edit the formulas in the Nine-Box Grid below. Each box of the boxes displays up to 17 employees.
C9: Employee performance and potential review | K9: Nine-Box Grid
B11: Employee | D11: Performance | F11: Potential | I11: Potential | L11: Develop in current role | R11: Focus on developing for the future | X11: Fast-track development and movement
B12: Enter the name of the employee whose performance and potential you will be assessing. | D12: Select the option that best reflects the employee's level of performance over time. | F12: Select the option that best reflects the employee's potential for future growth within the organization.
J13: ='3. Term sheet'!D9 -> 3. High potential
L14: {=IF($B$17="","",IFERROR(INDEX($B$17:$B$67,SMALL(IF(1='BACKEND- Calculations'!$I$17:$I$67,ROW($B$17:$B$67)-16,""),ROW()-13)),""))} | R14: {=IF($B$17="","",IFERROR(INDEX($B$17:$B$67,SMALL(IF(2='BACKEND- Calculations'!$I$17:$I$67,ROW($B$17:$B$67)-16,""),ROW()-13)),""))} | X14: {=IF($B$17="","",IFERROR(INDEX($B$17:$B$67,SMALL(IF(3='BACKEND- Calculations'!$I$17:$I$67,ROW($B$17:$B$67)-16,""),ROW()-13)),""))}
L15: {=IF($B$17="","",IFERROR(INDEX($B$17:$B$67,SMALL(IF(1='BACKEND- Calculations'!$I$17:$I$67,ROW($B$17:$B$67)-16,""),ROW()-13)),""))} | R15: {=IF($B$17="","",IFERROR(INDEX($B$17:$B$67,SMALL(IF(2='BACKEND- Calculations'!$I$17:$I$67,ROW($B$17:$B$67)-16,""),ROW()-13)),""))} | X15: {=IF($B$17="","",IFERROR(INDEX($B$17:$B$67,SMALL(IF(3='BACKEND- Calculations'!$I$17:$I$67,ROW($B$17:$B$67)-16,""),ROW()-13)),""))}
L16: {=IF($B$17="","",IFERROR(INDEX($B$17:$B$67,SMALL(IF(1='BACKEND- Calculations'!$I$17:$I$67,ROW($B$17:$B$67)-16,""),ROW()-13)),""))} | R16: {=IF($B$17="","",IFERROR(INDEX($B$17:$B$67,SMALL(IF(2='BACKEND- Calculations'!$I$17:$I$67,ROW($B$17:$B$67)-16,""),ROW()-13)),""))} | X16: {=IF($B$17="","",IFERROR(INDEX($B$17:$B$67,SMALL(IF(3='BACKEND- Calculations'!$I$17:$I$67,ROW($B$17:$B$67)-16,""),ROW()-13)),""))}
L17: {=IF($B$17="","",IFERROR(INDEX($B$17:$B$67,SMALL(IF(1='BACKEND- Calculations'!$I$17:$I$67,ROW($B$17:$B$67)-16,""),ROW()-13)),""))} | R17: {=IF($B$17="","",IFERROR(INDEX($B$17:$B$67,SMALL(IF(2='BACKEND- Calculations'!$I$17:$I$67,ROW($B$17:$B$67)-16,""),ROW()-13)),""))} | X17: {=IF($B$17="","",IFERROR(INDEX($B$17:$B$67,SMALL(IF(3='BACKEND- Calculations'!$I$17:$I$67,ROW($B$17:$B$67)-16,""),ROW()-13)),""))}
L18: {=IF($B$17="","",IFERROR(INDEX($B$17:$B$67,SMALL(IF(1='BACKEND- Calculations'!$I$17:$I$67,ROW($B$17:$B$67)-16,""),ROW()-13)),""))} | R18: {=IF($B$17="","",IFERROR(INDEX($B$17:$B$67,SMALL(IF(2='BACKEND- Calculations'!$I$17:$I$67,ROW($B$17:$B$67)-16,""),ROW()-13)),""))} | X18: {=IF($B$17="","",IFERROR(INDEX($B$17:$B$67,SMALL(IF(3='BACKEND- Calculations'!$I$17:$I$67,ROW($B$17:$B$67)-16,""),ROW()-13)),""))}
L19: {=IF($B$17="","",IFERROR(INDEX($B$17:$B$67,SMALL(IF(1='BACKEND- Calculations'!$I$17:$I$67,ROW($B$17:$B$67)-16,""),ROW()-13)),""))} | R19: {=IF($B$17="","",IFERROR(INDEX($B$17:$B$67,SMALL(IF(2='BACKEND- Calculations'!$I$17:$I$67,ROW($B$17:$B$67)-16,""),ROW()-13)),""))} | X19: {=IF($B$17="","",IFERROR(INDEX($B$17:$B$67,SMALL(IF(3='BACKEND- Calculations'!$I$17:$I$67,ROW($B$17:$B$67)-16,""),ROW()-13)),""))}
L20: {=IF($B$17="","",IFERROR(INDEX($B$17:$B$67,SMALL(IF(1='BACKEND- Calculations'!$I$17:$I$67,ROW($B$17:$B$67)-16,""),ROW()-13)),""))} | R20: {=IF($B$17="","",IFERROR(INDEX($B$17:$B$67,SMALL(IF(2='BACKEND- Calculations'!$I$17:$I$67,ROW($B$17:$B$67)-16,""),ROW()-13)),""))} | X20: {=IF($B$17="","",IFERROR(INDEX($B$17:$B$67,SMALL(IF(3='BACKEND- Calculations'!$I$17:$I$67,ROW($B$17:$B$67)-16,""),ROW()-13)),""))}
L21: {=IF($B$17="","",IFERROR(INDEX($B$17:$B$67,SMALL(IF(1='BACKEND- Calculations'!$I$17:$I$67,ROW($B$17:$B$67)-16,""),ROW()-13)),""))} | R21: {=IF($B$17="","",IFERROR(INDEX($B$17:$B$67,SMALL(IF(2='BACKEND- Calculations'!$I$17:$I$67,ROW($B$17:$B$67)-16,""),ROW()-13)),""))} | X21: {=IF($B$17="","",IFERROR(INDEX($B$17:$B$67,SMALL(IF(3='BACKEND- Calculations'!$I$17:$I$67,ROW($B$17:$B$67)-16,""),ROW()-13)),""))}
L22: {=IF($B$17="","",IFERROR(INDEX($B$17:$B$67,SMALL(IF(1='BACKEND- Calculations'!$I$17:$I$67,ROW($B$17:$B$67)-16,""),ROW()-13)),""))} | R22: {=IF($B$17="","",IFERROR(INDEX($B$17:$B$67,SMALL(IF(2='BACKEND- Calculations'!$I$17:$I$67,ROW($B$17:$B$67)-16,""),ROW()-13)),""))} | X22: {=IF($B$17="","",IFERROR(INDEX($B$17:$B$67,SMALL(IF(3='BACKEND- Calculations'!$I$17:$I$67,ROW($B$17:$B$67)-16,""),ROW()-13)),""))}
L23: {=IF($B$17="","",IFERROR(INDEX($B$17:$B$67,SMALL(IF(1='BACKEND- Calculations'!$I$17:$I$67,ROW($B$17:$B$67)-16,""),ROW()-13)),""))} | R23: {=IF($B$17="","",IFERROR(INDEX($B$17:$B$67,SMALL(IF(2='BACKEND- Calculations'!$I$17:$I$67,ROW($B$17:$B$67)-16,""),ROW()-13)),""))} | X23: {=IF($B$17="","",IFERROR(INDEX($B$17:$B$67,SMALL(IF(3='BACKEND- Calculations'!$I$17:$I$67,ROW($B$17:$B$67)-16,""),ROW()-13)),""))}
L24: {=IF($B$17="","",IFERROR(INDEX($B$17:$B$67,SMALL(IF(1='BACKEND- Calculations'!$I$17:$I$67,ROW($B$17:$B$67)-16,""),ROW()-13)),""))} | R24: {=IF($B$17="","",IFERROR(INDEX($B$17:$B$67,SMALL(IF(2='BACKEND- Calculations'!$I$17:$I$67,ROW($B$17:$B$67)-16,""),ROW()-13)),""))} | X24: {=IF($B$17="","",IFERROR(INDEX($B$17:$B$67,SMALL(IF(3='BACKEND- Calculations'!$I$17:$I$67,ROW($B$17:$B$67)-16,""),ROW()-13)),""))}
L25: {=IF($B$17="","",IFERROR(INDEX($B$17:$B$67,SMALL(IF(1='BACKEND- Calculations'!$I$17:$I$67,ROW($B$17:$B$67)-16,""),ROW()-13)),""))} | R25: {=IF($B$17="","",IFERROR(INDEX($B$17:$B$67,SMALL(IF(2='BACKEND- Calculations'!$I$17:$I$67,ROW($B$17:$B$67)-16,""),ROW()-13)),""))} | X25: {=IF($B$17="","",IFERROR(INDEX($B$17:$B$67,SMALL(IF(3='BACKEND- Calculations'!$I$17:$I$67,ROW($B$17:$B$67)-16,""),ROW()-13)),""))}
... L30: {=IF($B$17="","",IFERROR(INDEX($B$17:$B$67,SMALL(IF(1='BACKEND- Calculations'!$I$17:$I$67,ROW($B$17:$B$67)-16,""),ROW()-13)),""))} | R30: {=IF($B$17="","",IFERROR(INDEX($B$17:$B$67,SMALL(IF(2='BACKEND- Calculations'!$I$17:$I$67,ROW($B$17:$B$67)-16,""),ROW()-13)),""))} | X30: {=IF($B$17="","",IFERROR(INDEX($B$17:$B$67,SMALL(IF(3='BACKEND- Calculations'!$I$17:$I$67,ROW($B$17:$B$67)-16,""),ROW()-13)),""))}
J32: ='3. Term sheet'!D8 -> 2. Medium potential | L32: Address performance gaps | R32: Develop in current role | X32: Focus on developing for the future
L34: {=IF($B$17="","",IFERROR(INDEX($B$17:$B$67,SMALL(IF(4='BACKEND- Calculations'!$I$17:$I$67,ROW($B$17:$B$67)-16,""),ROW()-33)),""))} | R34: {=IF($B$17="","",IFERROR(INDEX($B$17:$B$67,SMALL(IF(5='BACKEND- Calculations'!$I$17:$I$67,ROW($B$17:$B$67)-16,""),ROW()-33)),""))} | X34: {=IF($B$17="","",IFERROR(INDEX($B$17:$B$72,SMALL(IF(6='BACKEND- Calculations'!$I$17:$I$67,ROW($B$17:$B$67)-16,""),ROW()-33)),""))}
L35: {=IF($B$17="","",IFERROR(INDEX($B$17:$B$67,SMALL(IF(4='BACKEND- Calculations'!$I$17:$I$67,ROW($B$17:$B$67)-16,""),ROW()-33)),""))} | R35: {=IF($B$17="","",IFERROR(INDEX($B$17:$B$67,SMALL(IF(5='BACKEND- Calculations'!$I$17:$I$67,ROW($B$17:$B$67)-16,""),ROW()-33)),""))} | X35: {=IF($B$17="","",IFERROR(INDEX($B$17:$B$72,SMALL(IF(6='BACKEND- Calculations'!$I$17:$I$67,ROW($B$17:$B$67)-16,""),ROW()-33)),""))}
L36: {=IF($B$17="","",IFERROR(INDEX($B$17:$B$67,SMALL(IF(4='BACKEND- Calculations'!$I$17:$I$67,ROW($B$17:$B$67)-16,""),ROW()-33)),""))} | R36: {=IF($B$17="","",IFERROR(INDEX($B$17:$B$67,SMALL(IF(5='BACKEND- Calculations'!$I$17:$I$67,ROW($B$17:$B$67)-16,""),ROW()-33)),""))} | X36: {=IF($B$17="","",IFERROR(INDEX($B$17:$B$72,SMALL(IF(6='BACKEND- Calculations'!$I$17:$I$67,ROW($B$17:$B$67)-16,""),ROW()-33)),""))}
L37: {=IF($B$17="","",IFERROR(INDEX($B$17:$B$67,SMALL(IF(4='BACKEND- Calculations'!$I$17:$I$67,ROW($B$17:$B$67)-16,""),ROW()-33)),""))} | R37: {=IF($B$17="","",IFERROR(INDEX($B$17:$B$67,SMALL(IF(5='BACKEND- Calculations'!$I$17:$I$67,ROW($B$17:$B$67)-16,""),ROW()-33)),""))} | X37: {=IF($B$17="","",IFERROR(INDEX($B$17:$B$72,SMALL(IF(6='BACKEND- Calculations'!$I$17:$I$67,ROW($B$17:$B$67)-16,""),ROW()-33)),""))}
L38: {=IF($B$17="","",IFERROR(INDEX($B$17:$B$67,SMALL(IF(4='BACKEND- Calculations'!$I$17:$I$67,ROW($B$17:$B$67)-16,""),ROW()-33)),""))} | R38: {=IF($B$17="","",IFERROR(INDEX($B$17:$B$67,SMALL(IF(5='BACKEND- Calculations'!$I$17:$I$67,ROW($B$17:$B$67)-16,""),ROW()-33)),""))} | X38: {=IF($B$17="","",IFERROR(INDEX($B$17:$B$72,SMALL(IF(6='BACKEND- Calculations'!$I$17:$I$67,ROW($B$17:$B$67)-16,""),ROW()-33)),""))}
L39: {=IF($B$17="","",IFERROR(INDEX($B$17:$B$67,SMALL(IF(4='BACKEND- Calculations'!$I$17:$I$67,ROW($B$17:$B$67)-16,""),ROW()-33)),""))} | R39: {=IF($B$17="","",IFERROR(INDEX($B$17:$B$67,SMALL(IF(5='BACKEND- Calculations'!$I$17:$I$67,ROW($B$17:$B$67)-16,""),ROW()-33)),""))} | X39: {=IF($B$17="","",IFERROR(INDEX($B$17:$B$72,SMALL(IF(6='BACKEND- Calculations'!$I$17:$I$67,ROW($B$17:$B$67)-16,""),ROW()-33)),""))}
L40: {=IF($B$17="","",IFERROR(INDEX($B$17:$B$67,SMALL(IF(4='BACKEND- Calculations'!$I$17:$I$67,ROW($B$17:$B$67)-16,""),ROW()-33)),""))} | R40: {=IF($B$17="","",IFERROR(INDEX($B$17:$B$67,SMALL(IF(5='BACKEND- Calculations'!$I$17:$I$67,ROW($B$17:$B$67)-16,""),ROW()-33)),""))} | X40: {=IF($B$17="","",IFERROR(INDEX($B$17:$B$72,SMALL(IF(6='BACKEND- Calculations'!$I$17:$I$67,ROW($B$17:$B$67)-16,""),ROW()-33)),""))}
L41: {=IF($B$17="","",IFERROR(INDEX($B$17:$B$67,SMALL(IF(4='BACKEND- Calculations'!$I$17:$I$67,ROW($B$17:$B$67)-16,""),ROW()-33)),""))} | R41: {=IF($B$17="","",IFERROR(INDEX($B$17:$B$67,SMALL(IF(5='BACKEND- Calculations'!$I$17:$I$67,ROW($B$17:$B$67)-16,""),ROW()-33)),""))} | X41: {=IF($B$17="","",IFERROR(INDEX($B$17:$B$72,SMALL(IF(6='BACKEND- Calculations'!$I$17:$I$67,ROW($B$17:$B$67)-16,""),ROW()-33)),""))}
L42: {=IF($B$17="","",IFERROR(INDEX($B$17:$B$67,SMALL(IF(4='BACKEND- Calculations'!$I$17:$I$67,ROW($B$17:$B$67)-16,""),ROW()-33)),""))} | R42: {=IF($B$17="","",IFERROR(INDEX($B$17:$B$67,SMALL(IF(5='BACKEND- Calculations'!$I$17:$I$67,ROW($B$17:$B$67)-16,""),ROW()-33)),""))} | X42: {=IF($B$17="","",IFERROR(INDEX($B$17:$B$72,SMALL(IF(6='BACKEND- Calculations'!$I$17:$I$67,ROW($B$17:$B$67)-16,""),ROW()-33)),""))}
L43: {=IF($B$17="","",IFERROR(INDEX($B$17:$B$67,SMALL(IF(4='BACKEND- Calculations'!$I$17:$I$67,ROW($B$17:$B$67)-16,""),ROW()-33)),""))} | R43: {=IF($B$17="","",IFERROR(INDEX($B$17:$B$67,SMALL(IF(5='BACKEND- Calculations'!$I$17:$I$67,ROW($B$17:$B$67)-16,""),ROW()-33)),""))} | X43: {=IF($B$17="","",IFERROR(INDEX($B$17:$B$72,SMALL(IF(6='BACKEND- Calculations'!$I$17:$I$67,ROW($B$17:$B$67)-16,""),ROW()-33)),""))}
L44: {=IF($B$17="","",IFERROR(INDEX($B$17:$B$67,SMALL(IF(4='BACKEND- Calculations'!$I$17:$I$67,ROW($B$17:$B$67)-16,""),ROW()-33)),""))} | R44: {=IF($B$17="","",IFERROR(INDEX($B$17:$B$67,SMALL(IF(5='BACKEND- Calculations'!$I$17:$I$67,ROW($B$17:$B$67)-16,""),ROW()-33)),""))} | X44: {=IF($B$17="","",IFERROR(INDEX($B$17:$B$72,SMALL(IF(6='BACKEND- Calculations'!$I$17:$I$67,ROW($B$17:$B$67)-16,""),ROW()-33)),""))}
L45: {=IF($B$17="","",IFERROR(INDEX($B$17:$B$67,SMALL(IF(4='BACKEND- Calculations'!$I$17:$I$67,ROW($B$17:$B$67)-16,""),ROW()-33)),""))} | R45: {=IF($B$17="","",IFERROR(INDEX($B$17:$B$67,SMALL(IF(5='BACKEND- Calculations'!$I$17:$I$67,ROW($B$17:$B$67)-16,""),ROW()-33)),""))} | X45: {=IF($B$17="","",IFERROR(INDEX($B$17:$B$72,SMALL(IF(6='BACKEND- Calculations'!$I$17:$I$67,ROW($B$17:$B$67)-16,""),ROW()-33)),""))}
... L51: {=IF($B$17="","",IFERROR(INDEX($B$17:$B$67,SMALL(IF(4='BACKEND- Calculations'!$I$17:$I$67,ROW($B$17:$B$67)-16,""),ROW()-33)),""))} | R51: {=IF($B$17="","",IFERROR(INDEX($B$17:$B$67,SMALL(IF(5='BACKEND- Calculations'!$I$17:$I$67,ROW($B$17:$B$67)-16,""),ROW()-33)),""))} | X51: {=IF($B$17="","",IFERROR(INDEX($B$17:$B$72,SMALL(IF(6='BACKEND- Calculations'!$I$17:$I$67,ROW($B$17:$B$67)-16,""),ROW()-33)),""))}
J53: ='3. Term sheet'!D7 -> 1. Low potential | L53: Poor fit to role | R53: Address performance gaps | X53: Develop in current role
L55: {=IF($B$17="","",IFERROR(INDEX($B$17:$B$67,SMALL(IF(7='BACKEND- Calculations'!$I$17:$I$67,ROW($B$17:$B$67)-16,""),ROW()-54)),""))} | R55: {=IF($B$17="","",IFERROR(INDEX($B$17:$B$67,SMALL(IF(8='BACKEND- Calculations'!$I$17:$I$67,ROW($B$17:$B$67)-16,""),ROW()-54)),""))} | X55: {=IF($B$17="","",IFERROR(INDEX($B$17:$B$67,SMALL(IF(9='BACKEND- Calculations'!$I$17:$I$67,ROW($B$17:$B$67)-16,""),ROW()-54)),""))}
L56: {=IF($B$17="","",IFERROR(INDEX($B$17:$B$67,SMALL(IF(7='BACKEND- Calculations'!$I$17:$I$67,ROW($B$17:$B$67)-16,""),ROW()-54)),""))} | R56: {=IF($B$17="","",IFERROR(INDEX($B$17:$B$67,SMALL(IF(8='BACKEND- Calculations'!$I$17:$I$67,ROW($B$17:$B$67)-16,""),ROW()-54)),""))} | X56: {=IF($B$17="","",IFERROR(INDEX($B$17:$B$67,SMALL(IF(9='BACKEND- Calculations'!$I$17:$I$67,ROW($B$17:$B$67)-16,""),ROW()-54)),""))}
L57: {=IF($B$17="","",IFERROR(INDEX($B$17:$B$67,SMALL(IF(7='BACKEND- Calculations'!$I$17:$I$67,ROW($B$17:$B$67)-16,""),ROW()-54)),""))} | R57: {=IF($B$17="","",IFERROR(INDEX($B$17:$B$67,SMALL(IF(8='BACKEND- Calculations'!$I$17:$I$67,ROW($B$17:$B$67)-16,""),ROW()-54)),""))} | X57: {=IF($B$17="","",IFERROR(INDEX($B$17:$B$67,SMALL(IF(9='BACKEND- Calculations'!$I$17:$I$67,ROW($B$17:$B$67)-16,""),ROW()-54)),""))}
L58: {=IF($B$17="","",IFERROR(INDEX($B$17:$B$67,SMALL(IF(7='BACKEND- Calculations'!$I$17:$I$67,ROW($B$17:$B$67)-16,""),ROW()-54)),""))} | R58: {=IF($B$17="","",IFERROR(INDEX($B$17:$B$67,SMALL(IF(8='BACKEND- Calculations'!$I$17:$I$67,ROW($B$17:$B$67)-16,""),ROW()-54)),""))} | X58: {=IF($B$17="","",IFERROR(INDEX($B$17:$B$67,SMALL(IF(9='BACKEND- Calculations'!$I$17:$I$67,ROW($B$17:$B$67)-16,""),ROW()-54)),""))}
L59: {=IF($B$17="","",IFERROR(INDEX($B$17:$B$67,SMALL(IF(7='BACKEND- Calculations'!$I$17:$I$67,ROW($B$17:$B$67)-16,""),ROW()-54)),""))} | R59: {=IF($B$17="","",IFERROR(INDEX($B$17:$B$67,SMALL(IF(8='BACKEND- Calculations'!$I$17:$I$67,ROW($B$17:$B$67)-16,""),ROW()-54)),""))} | X59: {=IF($B$17="","",IFERROR(INDEX($B$17:$B$67,SMALL(IF(9='BACKEND- Calculations'!$I$17:$I$67,ROW($B$17:$B$67)-16,""),ROW()-54)),""))}
L60: {=IF($B$17="","",IFERROR(INDEX($B$17:$B$67,SMALL(IF(7='BACKEND- Calculations'!$I$17:$I$67,ROW($B$17:$B$67)-16,""),ROW()-54)),""))} | R60: {=IF($B$17="","",IFERROR(INDEX($B$17:$B$67,SMALL(IF(8='BACKEND- Calculations'!$I$17:$I$67,ROW($B$17:$B$67)-16,""),ROW()-54)),""))} | X60: {=IF($B$17="","",IFERROR(INDEX($B$17:$B$67,SMALL(IF(9='BACKEND- Calculations'!$I$17:$I$67,ROW($B$17:$B$67)-16,""),ROW()-54)),""))}
L61: {=IF($B$17="","",IFERROR(INDEX($B$17:$B$67,SMALL(IF(7='BACKEND- Calculations'!$I$17:$I$67,ROW($B$17:$B$67)-16,""),ROW()-54)),""))} | R61: {=IF($B$17="","",IFERROR(INDEX($B$17:$B$67,SMALL(IF(8='BACKEND- Calculations'!$I$17:$I$67,ROW($B$17:$B$67)-16,""),ROW()-54)),""))} | X61: {=IF($B$17="","",IFERROR(INDEX($B$17:$B$67,SMALL(IF(9='BACKEND- Calculations'!$I$17:$I$67,ROW($B$17:$B$67)-16,""),ROW()-54)),""))}
L62: {=IF($B$17="","",IFERROR(INDEX($B$17:$B$67,SMALL(IF(7='BACKEND- Calculations'!$I$17:$I$67,ROW($B$17:$B$67)-16,""),ROW()-54)),""))} | R62: {=IF($B$17="","",IFERROR(INDEX($B$17:$B$67,SMALL(IF(8='BACKEND- Calculations'!$I$17:$I$67,ROW($B$17:$B$67)-16,""),ROW()-54)),""))} | X62: {=IF($B$17="","",IFERROR(INDEX($B$17:$B$67,SMALL(IF(9='BACKEND- Calculations'!$I$17:$I$67,ROW($B$17:$B$67)-16,""),ROW()-54)),""))}
L63: {=IF($B$17="","",IFERROR(INDEX($B$17:$B$67,SMALL(IF(7='BACKEND- Calculations'!$I$17:$I$67,ROW($B$17:$B$67)-16,""),ROW()-54)),""))} | R63: {=IF($B$17="","",IFERROR(INDEX($B$17:$B$67,SMALL(IF(8='BACKEND- Calculations'!$I$17:$I$67,ROW($B$17:$B$67)-16,""),ROW()-54)),""))} | X63: {=IF($B$17="","",IFERROR(INDEX($B$17:$B$67,SMALL(IF(9='BACKEND- Calculations'!$I$17:$I$67,ROW($B$17:$B$67)-16,""),ROW()-54)),""))}
L64: {=IF($B$17="","",IFERROR(INDEX($B$17:$B$67,SMALL(IF(7='BACKEND- Calculations'!$I$17:$I$67,ROW($B$17:$B$67)-16,""),ROW()-54)),""))} | R64: {=IF($B$17="","",IFERROR(INDEX($B$17:$B$67,SMALL(IF(8='BACKEND- Calculations'!$I$17:$I$67,ROW($B$17:$B$67)-16,""),ROW()-54)),""))} | X64: {=IF($B$17="","",IFERROR(INDEX($B$17:$B$67,SMALL(IF(9='BACKEND- Calculations'!$I$17:$I$67,ROW($B$17:$B$67)-16,""),ROW()-54)),""))}
L65: {=IF($B$17="","",IFERROR(INDEX($B$17:$B$67,SMALL(IF(7='BACKEND- Calculations'!$I$17:$I$67,ROW($B$17:$B$67)-16,""),ROW()-54)),""))} | R65: {=IF($B$17="","",IFERROR(INDEX($B$17:$B$67,SMALL(IF(8='BACKEND- Calculations'!$I$17:$I$67,ROW($B$17:$B$67)-16,""),ROW()-54)),""))} | X65: {=IF($B$17="","",IFERROR(INDEX($B$17:$B$67,SMALL(IF(9='BACKEND- Calculations'!$I$17:$I$67,ROW($B$17:$B$67)-16,""),ROW()-54)),""))}
L66: {=IF($B$17="","",IFERROR(INDEX($B$17:$B$67,SMALL(IF(7='BACKEND- Calculations'!$I$17:$I$67,ROW($B$17:$B$67)-16,""),ROW()-54)),""))} | R66: {=IF($B$17="","",IFERROR(INDEX($B$17:$B$67,SMALL(IF(8='BACKEND- Calculations'!$I$17:$I$67,ROW($B$17:$B$67)-16,""),ROW()-54)),""))} | X66: {=IF($B$17="","",IFERROR(INDEX($B$17:$B$67,SMALL(IF(9='BACKEND- Calculations'!$I$17:$I$67,ROW($B$17:$B$67)-16,""),ROW()-54)),""))}
... L71: {=IF($B$17="","",IFERROR(INDEX($B$17:$B$67,SMALL(IF(7='BACKEND- Calculations'!$I$17:$I$67,ROW($B$17:$B$67)-16,""),ROW()-54)),""))} | R71: {=IF($B$17="","",IFERROR(INDEX($B$17:$B$67,SMALL(IF(8='BACKEND- Calculations'!$I$17:$I$67,ROW($B$17:$B$67)-16,""),ROW()-54)),""))} | X71: {=IF($B$17="","",IFERROR(INDEX($B$17:$B$67,SMALL(IF(9='BACKEND- Calculations'!$I$17:$I$67,ROW($B$17:$B$67)-16,""),ROW()-54)),""))}
K73: Performance
K74: ='3. Term sheet'!B7 -> 1. Does not meet expectations | Q74: ='3. Term sheet'!B8 -> 2. Meets expectations | W74: ='3. Term sheet'!B9 -> 3. Exceeds expectations

Sheet 3. Term sheet
B2: Term Sheet
B4: If desired, replace these suggested terms with others that better reflect how performance and potential are evaluated in your organization.
B5: ATTENTION: Always follow the order of low, medium, and high options when selecting the levels for the best results.
B6: Performance | D6: Potential
B7: 1. Does not meet expectations | D7: 1. Low potential
B8: 2. Meets expectations | D8: 2. Medium potential
B9: 3. Exceeds expectations | D9: 3. High potential

Sheet BACKEND- Calculations
B10: Role Evaluation Tool
B11: Employee | D11: Performance | F11: Potential
B12: The formula mirrors the name of the employee the user will enter. | D12: Based on the answer to the question about performance, the formula returns a value between 1 and 3. | F12: Based on the answer to the question about potential, the formula returns a value between 1 and 3 | I12: Matrix Quadrant
L16: PERFORMANCE | N16: POTENTIAL
B17: =IF('2. Nine-Box Grid'!B17="","",'2. Nine-Box Grid'!B17) | D17: {=IF('2. Nine-Box Grid'!D17="","",_xlfn.IFS('2. Nine-Box Grid'!D17='3. Term sheet'!$B$7,1,'2. Nine-Box Grid'!D17='3. Term sheet'!$B$8,2,'2. Nine-Box Grid'!D17='3. Term sheet'!$B$9,3))} | F17: {=IF('2. Nine-Box Grid'!F17="","",_xlfn.IFS('2. Nine-Box Grid'!F17='3. Term sheet'!$D$7,1,'2. Nine-Box Grid'!F17='3. Term sheet'!$D$8,2,'2. Nine-Box Grid'!F17='3. Term sheet'!$D$9,3))} | I17: {=IFERROR(_xlfn.IFS(AND(D17=1,F17=3),1,AND(D17=2,F17=3),2,AND(D17=3,F17=3),3,AND(D17=1,F17=2),4,AND(D17=2,F17=2),5,AND(D17=3,F17=2),6,AND(D17=1,F17=1),7,AND(D17=2,F17=1),8,AND(D17=3,F17=1),9),"")} | K17: 1 | L17: ='3. Term sheet'!B7 -> 1. Does not meet expectations | M17: 1 | N17: ='3. Term sheet'!D9 -> 3. High potential | O17: 3
B18: =IF('2. Nine-Box Grid'!B18="","",'2. Nine-Box Grid'!B18) | D18: {=IF('2. Nine-Box Grid'!D18="","",_xlfn.IFS('2. Nine-Box Grid'!D18='3. Term sheet'!$B$7,1,'2. Nine-Box Grid'!D18='3. Term sheet'!$B$8,2,'2. Nine-Box Grid'!D18='3. Term sheet'!$B$9,3))} | F18: {=IF('2. Nine-Box Grid'!F18="","",_xlfn.IFS('2. Nine-Box Grid'!F18='3. Term sheet'!$D$7,1,'2. Nine-Box Grid'!F18='3. Term sheet'!$D$8,2,'2. Nine-Box Grid'!F18='3. Term sheet'!$D$9,3))} | I18: {=IFERROR(_xlfn.IFS(AND(D18=1,F18=3),1,AND(D18=2,F18=3),2,AND(D18=3,F18=3),3,AND(D18=1,F18=2),4,AND(D18=2,F18=2),5,AND(D18=3,F18=2),6,AND(D18=1,F18=1),7,AND(D18=2,F18=1),8,AND(D18=3,F18=1),9),"")} | K18: 2 | L18: ='3. Term sheet'!B8 -> 2. Meets expectations | M18: 2 | N18: ='3. Term sheet'!D9 -> 3. High potential | O18: 3
B19: =IF('2. Nine-Box Grid'!B19="","",'2. Nine-Box Grid'!B19) | D19: {=IF('2. Nine-Box Grid'!D19="","",_xlfn.IFS('2. Nine-Box Grid'!D19='3. Term sheet'!$B$7,1,'2. Nine-Box Grid'!D19='3. Term sheet'!$B$8,2,'2. Nine-Box Grid'!D19='3. Term sheet'!$B$9,3))} | F19: {=IF('2. Nine-Box Grid'!F19="","",_xlfn.IFS('2. Nine-Box Grid'!F19='3. Term sheet'!$D$7,1,'2. Nine-Box Grid'!F19='3. Term sheet'!$D$8,2,'2. Nine-Box Grid'!F19='3. Term sheet'!$D$9,3))} | I19: {=IFERROR(_xlfn.IFS(AND(D19=1,F19=3),1,AND(D19=2,F19=3),2,AND(D19=3,F19=3),3,AND(D19=1,F19=2),4,AND(D19=2,F19=2),5,AND(D19=3,F19=2),6,AND(D19=1,F19=1),7,AND(D19=2,F19=1),8,AND(D19=3,F19=1),9),"")} | K19: 3 | L19: ='3. Term sheet'!B9 -> 3. Exceeds expectations | M19: 3 | N19: ='3. Term sheet'!D9 -> 3. High potential | O19: 3
B20: =IF('2. Nine-Box Grid'!B20="","",'2. Nine-Box Grid'!B20) | D20: {=IF('2. Nine-Box Grid'!D20="","",_xlfn.IFS('2. Nine-Box Grid'!D20='3. Term sheet'!$B$7,1,'2. Nine-Box Grid'!D20='3. Term sheet'!$B$8,2,'2. Nine-Box Grid'!D20='3. Term sheet'!$B$9,3))} | F20: {=IF('2. Nine-Box Grid'!F20="","",_xlfn.IFS('2. Nine-Box Grid'!F20='3. Term sheet'!$D$7,1,'2. Nine-Box Grid'!F20='3. Term sheet'!$D$8,2,'2. Nine-Box Grid'!F20='3. Term sheet'!$D$9,3))} | I20: {=IFERROR(_xlfn.IFS(AND(D20=1,F20=3),1,AND(D20=2,F20=3),2,AND(D20=3,F20=3),3,AND(D20=1,F20=2),4,AND(D20=2,F20=2),5,AND(D20=3,F20=2),6,AND(D20=1,F20=1),7,AND(D20=2,F20=1),8,AND(D20=3,F20=1),9),"")} | K20: 4 | L20: ='3. Term sheet'!B7 -> 1. Does not meet expectations | M20: 1 | N20: ='3. Term sheet'!D8 -> 2. Medium potential | O20: 2
B21: =IF('2. Nine-Box Grid'!B21="","",'2. Nine-Box Grid'!B21) | D21: {=IF('2. Nine-Box Grid'!D21="","",_xlfn.IFS('2. Nine-Box Grid'!D21='3. Term sheet'!$B$7,1,'2. Nine-Box Grid'!D21='3. Term sheet'!$B$8,2,'2. Nine-Box Grid'!D21='3. Term sheet'!$B$9,3))} | F21: {=IF('2. Nine-Box Grid'!F21="","",_xlfn.IFS('2. Nine-Box Grid'!F21='3. Term sheet'!$D$7,1,'2. Nine-Box Grid'!F21='3. Term sheet'!$D$8,2,'2. Nine-Box Grid'!F21='3. Term sheet'!$D$9,3))} | I21: {=IFERROR(_xlfn.IFS(AND(D21=1,F21=3),1,AND(D21=2,F21=3),2,AND(D21=3,F21=3),3,AND(D21=1,F21=2),4,AND(D21=2,F21=2),5,AND(D21=3,F21=2),6,AND(D21=1,F21=1),7,AND(D21=2,F21=1),8,AND(D21=3,F21=1),9),"")} | K21: 5 | L21: ='3. Term sheet'!B8 -> 2. Meets expectations | M21: 2 | N21: ='3. Term sheet'!D8 -> 2. Medium potential | O21: 2
B22: =IF('2. Nine-Box Grid'!B22="","",'2. Nine-Box Grid'!B22) | D22: {=IF('2. Nine-Box Grid'!D22="","",_xlfn.IFS('2. Nine-Box Grid'!D22='3. Term sheet'!$B$7,1,'2. Nine-Box Grid'!D22='3. Term sheet'!$B$8,2,'2. Nine-Box Grid'!D22='3. Term sheet'!$B$9,3))} | F22: {=IF('2. Nine-Box Grid'!F22="","",_xlfn.IFS('2. Nine-Box Grid'!F22='3. Term sheet'!$D$7,1,'2. Nine-Box Grid'!F22='3. Term sheet'!$D$8,2,'2. Nine-Box Grid'!F22='3. Term sheet'!$D$9,3))} | I22: {=IFERROR(_xlfn.IFS(AND(D22=1,F22=3),1,AND(D22=2,F22=3),2,AND(D22=3,F22=3),3,AND(D22=1,F22=2),4,AND(D22=2,F22=2),5,AND(D22=3,F22=2),6,AND(D22=1,F22=1),7,AND(D22=2,F22=1),8,AND(D22=3,F22=1),9),"")} | K22: 6 | L22: ='3. Term sheet'!B9 -> 3. Exceeds expectations | M22: 3 | N22: ='3. Term sheet'!D8 -> 2. Medium potential | O22: 2
B23: =IF('2. Nine-Box Grid'!B23="","",'2. Nine-Box Grid'!B23) | D23: {=IF('2. Nine-Box Grid'!D23="","",_xlfn.IFS('2. Nine-Box Grid'!D23='3. Term sheet'!$B$7,1,'2. Nine-Box Grid'!D23='3. Term sheet'!$B$8,2,'2. Nine-Box Grid'!D23='3. Term sheet'!$B$9,3))} | F23: {=IF('2. Nine-Box Grid'!F23="","",_xlfn.IFS('2. Nine-Box Grid'!F23='3. Term sheet'!$D$7,1,'2. Nine-Box Grid'!F23='3. Term sheet'!$D$8,2,'2. Nine-Box Grid'!F23='3. Term sheet'!$D$9,3))} | I23: {=IFERROR(_xlfn.IFS(AND(D23=1,F23=3),1,AND(D23=2,F23=3),2,AND(D23=3,F23=3),3,AND(D23=1,F23=2),4,AND(D23=2,F23=2),5,AND(D23=3,F23=2),6,AND(D23=1,F23=1),7,AND(D23=2,F23=1),8,AND(D23=3,F23=1),9),"")} | K23: 7 | L23: ='3. Term sheet'!B7 -> 1. Does not meet expectations | M23: 1 | N23: ='3. Term sheet'!D7 -> 1. Low potential | O23: 1
B24: =IF('2. Nine-Box Grid'!B24="","",'2. Nine-Box Grid'!B24) | D24: {=IF('2. Nine-Box Grid'!D24="","",_xlfn.IFS('2. Nine-Box Grid'!D24='3. Term sheet'!$B$7,1,'2. Nine-Box Grid'!D24='3. Term sheet'!$B$8,2,'2. Nine-Box Grid'!D24='3. Term sheet'!$B$9,3))} | F24: {=IF('2. Nine-Box Grid'!F24="","",_xlfn.IFS('2. Nine-Box Grid'!F24='3. Term sheet'!$D$7,1,'2. Nine-Box Grid'!F24='3. Term sheet'!$D$8,2,'2. Nine-Box Grid'!F24='3. Term sheet'!$D$9,3))} | I24: {=IFERROR(_xlfn.IFS(AND(D24=1,F24=3),1,AND(D24=2,F24=3),2,AND(D24=3,F24=3),3,AND(D24=1,F24=2),4,AND(D24=2,F24=2),5,AND(D24=3,F24=2),6,AND(D24=1,F24=1),7,AND(D24=2,F24=1),8,AND(D24=3,F24=1),9),"")} | K24: 8 | L24: ='3. Term sheet'!B8 -> 2. Meets expectations | M24: 2 | N24: ='3. Term sheet'!D7 -> 1. Low potential | O24: 1
B25: =IF('2. Nine-Box Grid'!B25="","",'2. Nine-Box Grid'!B25) | D25: {=IF('2. Nine-Box Grid'!D25="","",_xlfn.IFS('2. Nine-Box Grid'!D25='3. Term sheet'!$B$7,1,'2. Nine-Box Grid'!D25='3. Term sheet'!$B$8,2,'2. Nine-Box Grid'!D25='3. Term sheet'!$B$9,3))} | F25: {=IF('2. Nine-Box Grid'!F25="","",_xlfn.IFS('2. Nine-Box Grid'!F25='3. Term sheet'!$D$7,1,'2. Nine-Box Grid'!F25='3. Term sheet'!$D$8,2,'2. Nine-Box Grid'!F25='3. Term sheet'!$D$9,3))} | I25: {=IFERROR(_xlfn.IFS(AND(D25=1,F25=3),1,AND(D25=2,F25=3),2,AND(D25=3,F25=3),3,AND(D25=1,F25=2),4,AND(D25=2,F25=2),5,AND(D25=3,F25=2),6,AND(D25=1,F25=1),7,AND(D25=2,F25=1),8,AND(D25=3,F25=1),9),"")} | K25: 9 | L25: ='3. Term sheet'!B9 -> 3. Exceeds expectations | M25: 3 | N25: ='3. Term sheet'!D7 -> 1. Low potential | O25: 1
B26: =IF('2. Nine-Box Grid'!B26="","",'2. Nine-Box Grid'!B26) | D26: {=IF('2. Nine-Box Grid'!D26="","",_xlfn.IFS('2. Nine-Box Grid'!D26='3. Term sheet'!$B$7,1,'2. Nine-Box Grid'!D26='3. Term sheet'!$B$8,2,'2. Nine-Box Grid'!D26='3. Term sheet'!$B$9,3))} | F26: {=IF('2. Nine-Box Grid'!F26="","",_xlfn.IFS('2. Nine-Box Grid'!F26='3. Term sheet'!$D$7,1,'2. Nine-Box Grid'!F26='3. Term sheet'!$D$8,2,'2. Nine-Box Grid'!F26='3. Term sheet'!$D$9,3))} | I26: {=IFERROR(_xlfn.IFS(AND(D26=1,F26=3),1,AND(D26=2,F26=3),2,AND(D26=3,F26=3),3,AND(D26=1,F26=2),4,AND(D26=2,F26=2),5,AND(D26=3,F26=2),6,AND(D26=1,F26=1),7,AND(D26=2,F26=1),8,AND(D26=3,F26=1),9),"")}
B27: =IF('2. Nine-Box Grid'!B27="","",'2. Nine-Box Grid'!B27) | D27: {=IF('2. Nine-Box Grid'!D27="","",_xlfn.IFS('2. Nine-Box Grid'!D27='3. Term sheet'!$B$7,1,'2. Nine-Box Grid'!D27='3. Term sheet'!$B$8,2,'2. Nine-Box Grid'!D27='3. Term sheet'!$B$9,3))} | F27: {=IF('2. Nine-Box Grid'!F27="","",_xlfn.IFS('2. Nine-Box Grid'!F27='3. Term sheet'!$D$7,1,'2. Nine-Box Grid'!F27='3. Term sheet'!$D$8,2,'2. Nine-Box Grid'!F27='3. Term sheet'!$D$9,3))} | I27: {=IFERROR(_xlfn.IFS(AND(D27=1,F27=3),1,AND(D27=2,F27=3),2,AND(D27=3,F27=3),3,AND(D27=1,F27=2),4,AND(D27=2,F27=2),5,AND(D27=3,F27=2),6,AND(D27=1,F27=1),7,AND(D27=2,F27=1),8,AND(D27=3,F27=1),9),"")}
B28: =IF('2. Nine-Box Grid'!B28="","",'2. Nine-Box Grid'!B28) | D28: {=IF('2. Nine-Box Grid'!D28="","",_xlfn.IFS('2. Nine-Box Grid'!D28='3. Term sheet'!$B$7,1,'2. Nine-Box Grid'!D28='3. Term sheet'!$B$8,2,'2. Nine-Box Grid'!D28='3. Term sheet'!$B$9,3))} | F28: {=IF('2. Nine-Box Grid'!F28="","",_xlfn.IFS('2. Nine-Box Grid'!F28='3. Term sheet'!$D$7,1,'2. Nine-Box Grid'!F28='3. Term sheet'!$D$8,2,'2. Nine-Box Grid'!F28='3. Term sheet'!$D$9,3))} | I28: {=IFERROR(_xlfn.IFS(AND(D28=1,F28=3),1,AND(D28=2,F28=3),2,AND(D28=3,F28=3),3,AND(D28=1,F28=2),4,AND(D28=2,F28=2),5,AND(D28=3,F28=2),6,AND(D28=1,F28=1),7,AND(D28=2,F28=1),8,AND(D28=3,F28=1),9),"")}
B29: =IF('2. Nine-Box Grid'!B29="","",'2. Nine-Box Grid'!B29) | D29: {=IF('2. Nine-Box Grid'!D29="","",_xlfn.IFS('2. Nine-Box Grid'!D29='3. Term sheet'!$B$7,1,'2. Nine-Box Grid'!D29='3. Term sheet'!$B$8,2,'2. Nine-Box Grid'!D29='3. Term sheet'!$B$9,3))} | F29: {=IF('2. Nine-Box Grid'!F29="","",_xlfn.IFS('2. Nine-Box Grid'!F29='3. Term sheet'!$D$7,1,'2. Nine-Box Grid'!F29='3. Term sheet'!$D$8,2,'2. Nine-Box Grid'!F29='3. Term sheet'!$D$9,3))} | I29: {=IFERROR(_xlfn.IFS(AND(D29=1,F29=3),1,AND(D29=2,F29=3),2,AND(D29=3,F29=3),3,AND(D29=1,F29=2),4,AND(D29=2,F29=2),5,AND(D29=3,F29=2),6,AND(D29=1,F29=1),7,AND(D29=2,F29=1),8,AND(D29=3,F29=1),9),"")}
B30: =IF('2. Nine-Box Grid'!B30="","",'2. Nine-Box Grid'!B30) | D30: {=IF('2. Nine-Box Grid'!D30="","",_xlfn.IFS('2. Nine-Box Grid'!D30='3. Term sheet'!$B$7,1,'2. Nine-Box Grid'!D30='3. Term sheet'!$B$8,2,'2. Nine-Box Grid'!D30='3. Term sheet'!$B$9,3))} | F30: {=IF('2. Nine-Box Grid'!F30="","",_xlfn.IFS('2. Nine-Box Grid'!F30='3. Term sheet'!$D$7,1,'2. Nine-Box Grid'!F30='3. Term sheet'!$D$8,2,'2. Nine-Box Grid'!F30='3. Term sheet'!$D$9,3))} | I30: {=IFERROR(_xlfn.IFS(AND(D30=1,F30=3),1,AND(D30=2,F30=3),2,AND(D30=3,F30=3),3,AND(D30=1,F30=2),4,AND(D30=2,F30=2),5,AND(D30=3,F30=2),6,AND(D30=1,F30=1),7,AND(D30=2,F30=1),8,AND(D30=3,F30=1),9),"")}
B31: =IF('2. Nine-Box Grid'!B31="","",'2. Nine-Box Grid'!B31) | D31: {=IF('2. Nine-Box Grid'!D31="","",_xlfn.IFS('2. Nine-Box Grid'!D31='3. Term sheet'!$B$7,1,'2. Nine-Box Grid'!D31='3. Term sheet'!$B$8,2,'2. Nine-Box Grid'!D31='3. Term sheet'!$B$9,3))} | F31: {=IF('2. Nine-Box Grid'!F31="","",_xlfn.IFS('2. Nine-Box Grid'!F31='3. Term sheet'!$D$7,1,'2. Nine-Box Grid'!F31='3. Term sheet'!$D$8,2,'2. Nine-Box Grid'!F31='3. Term sheet'!$D$9,3))} | I31: {=IFERROR(_xlfn.IFS(AND(D31=1,F31=3),1,AND(D31=2,F31=3),2,AND(D31=3,F31=3),3,AND(D31=1,F31=2),4,AND(D31=2,F31=2),5,AND(D31=3,F31=2),6,AND(D31=1,F31=1),7,AND(D31=2,F31=1),8,AND(D31=3,F31=1),9),"")}
B32: =IF('2. Nine-Box Grid'!B32="","",'2. Nine-Box Grid'!B32) | D32: {=IF('2. Nine-Box Grid'!D32="","",_xlfn.IFS('2. Nine-Box Grid'!D32='3. Term sheet'!$B$7,1,'2. Nine-Box Grid'!D32='3. Term sheet'!$B$8,2,'2. Nine-Box Grid'!D32='3. Term sheet'!$B$9,3))} | F32: {=IF('2. Nine-Box Grid'!F32="","",_xlfn.IFS('2. Nine-Box Grid'!F32='3. Term sheet'!$D$7,1,'2. Nine-Box Grid'!F32='3. Term sheet'!$D$8,2,'2. Nine-Box Grid'!F32='3. Term sheet'!$D$9,3))} | I32: {=IFERROR(_xlfn.IFS(AND(D32=1,F32=3),1,AND(D32=2,F32=3),2,AND(D32=3,F32=3),3,AND(D32=1,F32=2),4,AND(D32=2,F32=2),5,AND(D32=3,F32=2),6,AND(D32=1,F32=1),7,AND(D32=2,F32=1),8,AND(D32=3,F32=1),9),"")}
B33: =IF('2. Nine-Box Grid'!B33="","",'2. Nine-Box Grid'!B33) | D33: {=IF('2. Nine-Box Grid'!D33="","",_xlfn.IFS('2. Nine-Box Grid'!D33='3. Term sheet'!$B$7,1,'2. Nine-Box Grid'!D33='3. Term sheet'!$B$8,2,'2. Nine-Box Grid'!D33='3. Term sheet'!$B$9,3))} | F33: {=IF('2. Nine-Box Grid'!F33="","",_xlfn.IFS('2. Nine-Box Grid'!F33='3. Term sheet'!$D$7,1,'2. Nine-Box Grid'!F33='3. Term sheet'!$D$8,2,'2. Nine-Box Grid'!F33='3. Term sheet'!$D$9,3))} | I33: {=IFERROR(_xlfn.IFS(AND(D33=1,F33=3),1,AND(D33=2,F33=3),2,AND(D33=3,F33=3),3,AND(D33=1,F33=2),4,AND(D33=2,F33=2),5,AND(D33=3,F33=2),6,AND(D33=1,F33=1),7,AND(D33=2,F33=1),8,AND(D33=3,F33=1),9),"")}
B34: =IF('2. Nine-Box Grid'!B34="","",'2. Nine-Box Grid'!B34) | D34: {=IF('2. Nine-Box Grid'!D34="","",_xlfn.IFS('2. Nine-Box Grid'!D34='3. Term sheet'!$B$7,1,'2. Nine-Box Grid'!D34='3. Term sheet'!$B$8,2,'2. Nine-Box Grid'!D34='3. Term sheet'!$B$9,3))} | F34: {=IF('2. Nine-Box Grid'!F34="","",_xlfn.IFS('2. Nine-Box Grid'!F34='3. Term sheet'!$D$7,1,'2. Nine-Box Grid'!F34='3. Term sheet'!$D$8,2,'2. Nine-Box Grid'!F34='3. Term sheet'!$D$9,3))} | I34: {=IFERROR(_xlfn.IFS(AND(D34=1,F34=3),1,AND(D34=2,F34=3),2,AND(D34=3,F34=3),3,AND(D34=1,F34=2),4,AND(D34=2,F34=2),5,AND(D34=3,F34=2),6,AND(D34=1,F34=1),7,AND(D34=2,F34=1),8,AND(D34=3,F34=1),9),"")}
B35: =IF('2. Nine-Box Grid'!B35="","",'2. Nine-Box Grid'!B35) | D35: {=IF('2. Nine-Box Grid'!D35="","",_xlfn.IFS('2. Nine-Box Grid'!D35='3. Term sheet'!$B$7,1,'2. Nine-Box Grid'!D35='3. Term sheet'!$B$8,2,'2. Nine-Box Grid'!D35='3. Term sheet'!$B$9,3))} | F35: {=IF('2. Nine-Box Grid'!F35="","",_xlfn.IFS('2. Nine-Box Grid'!F35='3. Term sheet'!$D$7,1,'2. Nine-Box Grid'!F35='3. Term sheet'!$D$8,2,'2. Nine-Box Grid'!F35='3. Term sheet'!$D$9,3))} | I35: {=IFERROR(_xlfn.IFS(AND(D35=1,F35=3),1,AND(D35=2,F35=3),2,AND(D35=3,F35=3),3,AND(D35=1,F35=2),4,AND(D35=2,F35=2),5,AND(D35=3,F35=2),6,AND(D35=1,F35=1),7,AND(D35=2,F35=1),8,AND(D35=3,F35=1),9),"")}
B36: =IF('2. Nine-Box Grid'!B36="","",'2. Nine-Box Grid'!B36) | D36: {=IF('2. Nine-Box Grid'!D36="","",_xlfn.IFS('2. Nine-Box Grid'!D36='3. Term sheet'!$B$7,1,'2. Nine-Box Grid'!D36='3. Term sheet'!$B$8,2,'2. Nine-Box Grid'!D36='3. Term sheet'!$B$9,3))} | F36: {=IF('2. Nine-Box Grid'!F36="","",_xlfn.IFS('2. Nine-Box Grid'!F36='3. Term sheet'!$D$7,1,'2. Nine-Box Grid'!F36='3. Term sheet'!$D$8,2,'2. Nine-Box Grid'!F36='3. Term sheet'!$D$9,3))} | I36: {=IFERROR(_xlfn.IFS(AND(D36=1,F36=3),1,AND(D36=2,F36=3),2,AND(D36=3,F36=3),3,AND(D36=1,F36=2),4,AND(D36=2,F36=2),5,AND(D36=3,F36=2),6,AND(D36=1,F36=1),7,AND(D36=2,F36=1),8,AND(D36=3,F36=1),9),"")}
B37: =IF('2. Nine-Box Grid'!B37="","",'2. Nine-Box Grid'!B37) | D37: {=IF('2. Nine-Box Grid'!D37="","",_xlfn.IFS('2. Nine-Box Grid'!D37='3. Term sheet'!$B$7,1,'2. Nine-Box Grid'!D37='3. Term sheet'!$B$8,2,'2. Nine-Box Grid'!D37='3. Term sheet'!$B$9,3))} | F37: {=IF('2. Nine-Box Grid'!F37="","",_xlfn.IFS('2. Nine-Box Grid'!F37='3. Term sheet'!$D$7,1,'2. Nine-Box Grid'!F37='3. Term sheet'!$D$8,2,'2. Nine-Box Grid'!F37='3. Term sheet'!$D$9,3))} | I37: {=IFERROR(_xlfn.IFS(AND(D37=1,F37=3),1,AND(D37=2,F37=3),2,AND(D37=3,F37=3),3,AND(D37=1,F37=2),4,AND(D37=2,F37=2),5,AND(D37=3,F37=2),6,AND(D37=1,F37=1),7,AND(D37=2,F37=1),8,AND(D37=3,F37=1),9),"")}
... B45: =IF('2. Nine-Box Grid'!B45="","",'2. Nine-Box Grid'!B45) | D45: {=IF('2. Nine-Box Grid'!D45="","",_xlfn.IFS('2. Nine-Box Grid'!D45='3. Term sheet'!$B$7,1,'2. Nine-Box Grid'!D45='3. Term sheet'!$B$8,2,'2. Nine-Box Grid'!D45='3. Term sheet'!$B$9,3))} | F45: {=IF('2. Nine-Box Grid'!F45="","",_xlfn.IFS('2. Nine-Box Grid'!F45='3. Term sheet'!$D$7,1,'2. Nine-Box Grid'!F45='3. Term sheet'!$D$8,2,'2. Nine-Box Grid'!F45='3. Term sheet'!$D$9,3))} | I45: {=IFERROR(_xlfn.IFS(AND(D45=1,F45=3),1,AND(D45=2,F45=3),2,AND(D45=3,F45=3),3,AND(D45=1,F45=2),4,AND(D45=2,F45=2),5,AND(D45=3,F45=2),6,AND(D45=1,F45=1),7,AND(D45=2,F45=1),8,AND(D45=3,F45=1),9),"")}
B46: =IF('2. Nine-Box Grid'!B46="","",'2. Nine-Box Grid'!B46) | D46: {=IF('2. Nine-Box Grid'!D49="","",_xlfn.IFS('2. Nine-Box Grid'!D49='3. Term sheet'!$B$7,1,'2. Nine-Box Grid'!D49='3. Term sheet'!$B$8,2,'2. Nine-Box Grid'!D49='3. Term sheet'!$B$9,3))} | F46: {=IF('2. Nine-Box Grid'!F49="","",_xlfn.IFS('2. Nine-Box Grid'!F49='3. Term sheet'!$D$7,1,'2. Nine-Box Grid'!F49='3. Term sheet'!$D$8,2,'2. Nine-Box Grid'!F49='3. Term sheet'!$D$9,3))} | I46: {=IFERROR(_xlfn.IFS(AND(D46=1,F46=3),1,AND(D46=2,F46=3),2,AND(D46=3,F46=3),3,AND(D46=1,F46=2),4,AND(D46=2,F46=2),5,AND(D46=3,F46=2),6,AND(D46=1,F46=1),7,AND(D46=2,F46=1),8,AND(D46=3,F46=1),9),"")}
B47: =IF('2. Nine-Box Grid'!B47="","",'2. Nine-Box Grid'!B47) | D47: {=IF('2. Nine-Box Grid'!D50="","",_xlfn.IFS('2. Nine-Box Grid'!D50='3. Term sheet'!$B$7,1,'2. Nine-Box Grid'!D50='3. Term sheet'!$B$8,2,'2. Nine-Box Grid'!D50='3. Term sheet'!$B$9,3))} | F47: {=IF('2. Nine-Box Grid'!F50="","",_xlfn.IFS('2. Nine-Box Grid'!F50='3. Term sheet'!$D$7,1,'2. Nine-Box Grid'!F50='3. Term sheet'!$D$8,2,'2. Nine-Box Grid'!F50='3. Term sheet'!$D$9,3))} | I47: {=IFERROR(_xlfn.IFS(AND(D47=1,F47=3),1,AND(D47=2,F47=3),2,AND(D47=3,F47=3),3,AND(D47=1,F47=2),4,AND(D47=2,F47=2),5,AND(D47=3,F47=2),6,AND(D47=1,F47=1),7,AND(D47=2,F47=1),8,AND(D47=3,F47=1),9),"")}
B48: =IF('2. Nine-Box Grid'!B48="","",'2. Nine-Box Grid'!B48) | D48: {=IF('2. Nine-Box Grid'!D51="","",_xlfn.IFS('2. Nine-Box Grid'!D51='3. Term sheet'!$B$7,1,'2. Nine-Box Grid'!D51='3. Term sheet'!$B$8,2,'2. Nine-Box Grid'!D51='3. Term sheet'!$B$9,3))} | F48: {=IF('2. Nine-Box Grid'!F51="","",_xlfn.IFS('2. Nine-Box Grid'!F51='3. Term sheet'!$D$7,1,'2. Nine-Box Grid'!F51='3. Term sheet'!$D$8,2,'2. Nine-Box Grid'!F51='3. Term sheet'!$D$9,3))} | I48: {=IFERROR(_xlfn.IFS(AND(D48=1,F48=3),1,AND(D48=2,F48=3),2,AND(D48=3,F48=3),3,AND(D48=1,F48=2),4,AND(D48=2,F48=2),5,AND(D48=3,F48=2),6,AND(D48=1,F48=1),7,AND(D48=2,F48=1),8,AND(D48=3,F48=1),9),"")}
B49: =IF('2. Nine-Box Grid'!B49="","",'2. Nine-Box Grid'!B49) | D49: {=IF('2. Nine-Box Grid'!D52="","",_xlfn.IFS('2. Nine-Box Grid'!D52='3. Term sheet'!$B$7,1,'2. Nine-Box Grid'!D52='3. Term sheet'!$B$8,2,'2. Nine-Box Grid'!D52='3. Term sheet'!$B$9,3))} | F49: {=IF('2. Nine-Box Grid'!F52="","",_xlfn.IFS('2. Nine-Box Grid'!F52='3. Term sheet'!$D$7,1,'2. Nine-Box Grid'!F52='3. Term sheet'!$D$8,2,'2. Nine-Box Grid'!F52='3. Term sheet'!$D$9,3))} | I49: {=IFERROR(_xlfn.IFS(AND(D49=1,F49=3),1,AND(D49=2,F49=3),2,AND(D49=3,F49=3),3,AND(D49=1,F49=2),4,AND(D49=2,F49=2),5,AND(D49=3,F49=2),6,AND(D49=1,F49=1),7,AND(D49=2,F49=1),8,AND(D49=3,F49=1),9),"")}
B50: =IF('2. Nine-Box Grid'!B50="","",'2. Nine-Box Grid'!B50) | D50: {=IF('2. Nine-Box Grid'!D53="","",_xlfn.IFS('2. Nine-Box Grid'!D53='3. Term sheet'!$B$7,1,'2. Nine-Box Grid'!D53='3. Term sheet'!$B$8,2,'2. Nine-Box Grid'!D53='3. Term sheet'!$B$9,3))} | F50: {=IF('2. Nine-Box Grid'!F53="","",_xlfn.IFS('2. Nine-Box Grid'!F53='3. Term sheet'!$D$7,1,'2. Nine-Box Grid'!F53='3. Term sheet'!$D$8,2,'2. Nine-Box Grid'!F53='3. Term sheet'!$D$9,3))} | I50: {=IFERROR(_xlfn.IFS(AND(D50=1,F50=3),1,AND(D50=2,F50=3),2,AND(D50=3,F50=3),3,AND(D50=1,F50=2),4,AND(D50=2,F50=2),5,AND(D50=3,F50=2),6,AND(D50=1,F50=1),7,AND(D50=2,F50=1),8,AND(D50=3,F50=1),9),"")}
B51: =IF('2. Nine-Box Grid'!B51="","",'2. Nine-Box Grid'!B51) | D51: {=IF('2. Nine-Box Grid'!D54="","",_xlfn.IFS('2. Nine-Box Grid'!D54='3. Term sheet'!$B$7,1,'2. Nine-Box Grid'!D54='3. Term sheet'!$B$8,2,'2. Nine-Box Grid'!D54='3. Term sheet'!$B$9,3))} | F51: {=IF('2. Nine-Box Grid'!F54="","",_xlfn.IFS('2. Nine-Box Grid'!F54='3. Term sheet'!$D$7,1,'2. Nine-Box Grid'!F54='3. Term sheet'!$D$8,2,'2. Nine-Box Grid'!F54='3. Term sheet'!$D$9,3))} | I51: {=IFERROR(_xlfn.IFS(AND(D51=1,F51=3),1,AND(D51=2,F51=3),2,AND(D51=3,F51=3),3,AND(D51=1,F51=2),4,AND(D51=2,F51=2),5,AND(D51=3,F51=2),6,AND(D51=1,F51=1),7,AND(D51=2,F51=1),8,AND(D51=3,F51=1),9),"")}
B52: =IF('2. Nine-Box Grid'!B52="","",'2. Nine-Box Grid'!B52) | D52: {=IF('2. Nine-Box Grid'!D55="","",_xlfn.IFS('2. Nine-Box Grid'!D55='3. Term sheet'!$B$7,1,'2. Nine-Box Grid'!D55='3. Term sheet'!$B$8,2,'2. Nine-Box Grid'!D55='3. Term sheet'!$B$9,3))} | F52: {=IF('2. Nine-Box Grid'!F55="","",_xlfn.IFS('2. Nine-Box Grid'!F55='3. Term sheet'!$D$7,1,'2. Nine-Box Grid'!F55='3. Term sheet'!$D$8,2,'2. Nine-Box Grid'!F55='3. Term sheet'!$D$9,3))} | I52: {=IFERROR(_xlfn.IFS(AND(D52=1,F52=3),1,AND(D52=2,F52=3),2,AND(D52=3,F52=3),3,AND(D52=1,F52=2),4,AND(D52=2,F52=2),5,AND(D52=3,F52=2),6,AND(D52=1,F52=1),7,AND(D52=2,F52=1),8,AND(D52=3,F52=1),9),"")}
B53: =IF('2. Nine-Box Grid'!B53="","",'2. Nine-Box Grid'!B53) | D53: {=IF('2. Nine-Box Grid'!D56="","",_xlfn.IFS('2. Nine-Box Grid'!D56='3. Term sheet'!$B$7,1,'2. Nine-Box Grid'!D56='3. Term sheet'!$B$8,2,'2. Nine-Box Grid'!D56='3. Term sheet'!$B$9,3))} | F53: {=IF('2. Nine-Box Grid'!F56="","",_xlfn.IFS('2. Nine-Box Grid'!F56='3. Term sheet'!$D$7,1,'2. Nine-Box Grid'!F56='3. Term sheet'!$D$8,2,'2. Nine-Box Grid'!F56='3. Term sheet'!$D$9,3))} | I53: {=IFERROR(_xlfn.IFS(AND(D53=1,F53=3),1,AND(D53=2,F53=3),2,AND(D53=3,F53=3),3,AND(D53=1,F53=2),4,AND(D53=2,F53=2),5,AND(D53=3,F53=2),6,AND(D53=1,F53=1),7,AND(D53=2,F53=1),8,AND(D53=3,F53=1),9),"")}
B54: =IF('2. Nine-Box Grid'!B54="","",'2. Nine-Box Grid'!B54) | D54: {=IF('2. Nine-Box Grid'!D57="","",_xlfn.IFS('2. Nine-Box Grid'!D57='3. Term sheet'!$B$7,1,'2. Nine-Box Grid'!D57='3. Term sheet'!$B$8,2,'2. Nine-Box Grid'!D57='3. Term sheet'!$B$9,3))} | F54: {=IF('2. Nine-Box Grid'!F57="","",_xlfn.IFS('2. Nine-Box Grid'!F57='3. Term sheet'!$D$7,1,'2. Nine-Box Grid'!F57='3. Term sheet'!$D$8,2,'2. Nine-Box Grid'!F57='3. Term sheet'!$D$9,3))} | I54: {=IFERROR(_xlfn.IFS(AND(D54=1,F54=3),1,AND(D54=2,F54=3),2,AND(D54=3,F54=3),3,AND(D54=1,F54=2),4,AND(D54=2,F54=2),5,AND(D54=3,F54=2),6,AND(D54=1,F54=1),7,AND(D54=2,F54=1),8,AND(D54=3,F54=1),9),"")}
B55: =IF('2. Nine-Box Grid'!B55="","",'2. Nine-Box Grid'!B55) | D55: {=IF('2. Nine-Box Grid'!D58="","",_xlfn.IFS('2. Nine-Box Grid'!D58='3. Term sheet'!$B$7,1,'2. Nine-Box Grid'!D58='3. Term sheet'!$B$8,2,'2. Nine-Box Grid'!D58='3. Term sheet'!$B$9,3))} | F55: {=IF('2. Nine-Box Grid'!F58="","",_xlfn.IFS('2. Nine-Box Grid'!F58='3. Term sheet'!$D$7,1,'2. Nine-Box Grid'!F58='3. Term sheet'!$D$8,2,'2. Nine-Box Grid'!F58='3. Term sheet'!$D$9,3))} | I55: {=IFERROR(_xlfn.IFS(AND(D55=1,F55=3),1,AND(D55=2,F55=3),2,AND(D55=3,F55=3),3,AND(D55=1,F55=2),4,AND(D55=2,F55=2),5,AND(D55=3,F55=2),6,AND(D55=1,F55=1),7,AND(D55=2,F55=1),8,AND(D55=3,F55=1),9),"")}
B56: =IF('2. Nine-Box Grid'!B56="","",'2. Nine-Box Grid'!B56) | D56: {=IF('2. Nine-Box Grid'!D59="","",_xlfn.IFS('2. Nine-Box Grid'!D59='3. Term sheet'!$B$7,1,'2. Nine-Box Grid'!D59='3. Term sheet'!$B$8,2,'2. Nine-Box Grid'!D59='3. Term sheet'!$B$9,3))} | F56: {=IF('2. Nine-Box Grid'!F59="","",_xlfn.IFS('2. Nine-Box Grid'!F59='3. Term sheet'!$D$7,1,'2. Nine-Box Grid'!F59='3. Term sheet'!$D$8,2,'2. Nine-Box Grid'!F59='3. Term sheet'!$D$9,3))} | I56: {=IFERROR(_xlfn.IFS(AND(D56=1,F56=3),1,AND(D56=2,F56=3),2,AND(D56=3,F56=3),3,AND(D56=1,F56=2),4,AND(D56=2,F56=2),5,AND(D56=3,F56=2),6,AND(D56=1,F56=1),7,AND(D56=2,F56=1),8,AND(D56=3,F56=1),9),"")}
B57: =IF('2. Nine-Box Grid'!B57="","",'2. Nine-Box Grid'!B57) | D57: {=IF('2. Nine-Box Grid'!D60="","",_xlfn.IFS('2. Nine-Box Grid'!D60='3. Term sheet'!$B$7,1,'2. Nine-Box Grid'!D60='3. Term sheet'!$B$8,2,'2. Nine-Box Grid'!D60='3. Term sheet'!$B$9,3))} | F57: {=IF('2. Nine-Box Grid'!F60="","",_xlfn.IFS('2. Nine-Box Grid'!F60='3. Term sheet'!$D$7,1,'2. Nine-Box Grid'!F60='3. Term sheet'!$D$8,2,'2. Nine-Box Grid'!F60='3. Term sheet'!$D$9,3))} | I57: {=IFERROR(_xlfn.IFS(AND(D57=1,F57=3),1,AND(D57=2,F57=3),2,AND(D57=3,F57=3),3,AND(D57=1,F57=2),4,AND(D57=2,F57=2),5,AND(D57=3,F57=2),6,AND(D57=1,F57=1),7,AND(D57=2,F57=1),8,AND(D57=3,F57=1),9),"")}
... B65: =IF('2. Nine-Box Grid'!B65="","",'2. Nine-Box Grid'!B65) | D65: {=IF('2. Nine-Box Grid'!D68="","",_xlfn.IFS('2. Nine-Box Grid'!D68='3. Term sheet'!$B$7,1,'2. Nine-Box Grid'!D68='3. Term sheet'!$B$8,2,'2. Nine-Box Grid'!D68='3. Term sheet'!$B$9,3))} | F65: {=IF('2. Nine-Box Grid'!F68="","",_xlfn.IFS('2. Nine-Box Grid'!F68='3. Term sheet'!$D$7,1,'2. Nine-Box Grid'!F68='3. Term sheet'!$D$8,2,'2. Nine-Box Grid'!F68='3. Term sheet'!$D$9,3))} | I65: {=IFERROR(_xlfn.IFS(AND(D65=1,F65=3),1,AND(D65=2,F65=3),2,AND(D65=3,F65=3),3,AND(D65=1,F65=2),4,AND(D65=2,F65=2),5,AND(D65=3,F65=2),6,AND(D65=1,F65=1),7,AND(D65=2,F65=1),8,AND(D65=3,F65=1),9),"")}
B66: =IF('2. Nine-Box Grid'!B66="","",'2. Nine-Box Grid'!B66) | D66: {=IF('2. Nine-Box Grid'!D71="","",_xlfn.IFS('2. Nine-Box Grid'!D71='3. Term sheet'!$B$7,1,'2. Nine-Box Grid'!D71='3. Term sheet'!$B$8,2,'2. Nine-Box Grid'!D71='3. Term sheet'!$B$9,3))} | F66: {=IF('2. Nine-Box Grid'!F71="","",_xlfn.IFS('2. Nine-Box Grid'!F71='3. Term sheet'!$D$7,1,'2. Nine-Box Grid'!F71='3. Term sheet'!$D$8,2,'2. Nine-Box Grid'!F71='3. Term sheet'!$D$9,3))} | I66: {=IFERROR(_xlfn.IFS(AND(D66=1,F66=3),1,AND(D66=2,F66=3),2,AND(D66=3,F66=3),3,AND(D66=1,F66=2),4,AND(D66=2,F66=2),5,AND(D66=3,F66=2),6,AND(D66=1,F66=1),7,AND(D66=2,F66=1),8,AND(D66=3,F66=1),9),"")}
B67: =IF('2. Nine-Box Grid'!B67="","",'2. Nine-Box Grid'!B67) | D67: {=IF('2. Nine-Box Grid'!D72="","",_xlfn.IFS('2. Nine-Box Grid'!D72='3. Term sheet'!$B$7,1,'2. Nine-Box Grid'!D72='3. Term sheet'!$B$8,2,'2. Nine-Box Grid'!D72='3. Term sheet'!$B$9,3))} | F67: {=IF('2. Nine-Box Grid'!F72="","",_xlfn.IFS('2. Nine-Box Grid'!F72='3. Term sheet'!$D$7,1,'2. Nine-Box Grid'!F72='3. Term sheet'!$D$8,2,'2. Nine-Box Grid'!F72='3. Term sheet'!$D$9,3))} | I67: {=IFERROR(_xlfn.IFS(AND(D67=1,F67=3),1,AND(D67=2,F67=3),2,AND(D67=3,F67=3),3,AND(D67=1,F67=2),4,AND(D67=2,F67=2),5,AND(D67=3,F67=2),6,AND(D67=1,F67=1),7,AND(D67=2,F67=1),8,AND(D67=3,F67=1),9),"")}
